BEGIN:VCALENDAR
VERSION:2.0
PRODID:DPCALENDAR
CALSCALE:GREGORIAN
BEGIN:VTIMEZONE
TZID:Europe/Athens
X-MICROSOFT-CDO-TZID:7
BEGIN:STANDARD
DTSTART:20251026T010000
TZOFFSETFROM:+0300
TZOFFSETTO:+0200
TZNAME:EET
END:STANDARD
BEGIN:STANDARD
DTSTART:20261025T010000
TZOFFSETFROM:+0300
TZOFFSETTO:+0200
TZNAME:EET
END:STANDARD
BEGIN:DAYLIGHT
DTSTART:20260329T010000
TZOFFSETFROM:+0200
TZOFFSETTO:+0300
TZNAME:EEST
END:DAYLIGHT
END:VTIMEZONE
X-WR-TIMEZONE:Europe/Athens
BEGIN:VEVENT
DTSTART;TZID=Europe/Athens:20181217T120000
DTEND;TZID=Europe/Athens:20181217T130000
UID:2F95083E-E8CD-4B84-8DE7-FC1B4892E9DD
SUMMARY:Συμπόσιο Λευκού Πύργου
DTSTAMP:20181115T105605Z
DESCRIPTION:Συμπόσιο στην καφετέρια στο Λευκό Πύργο.
X-ALT-DESC;FMTTYPE=text/html:Συμπόσιο στην καφετέρια στο Λευκό Πύργο.
LOCATION:23 Alexandrou Papanastasiou\, 546 39 Thessaloniki\, Greece
GEO:40.61525270;22.96240250
LAST-MODIFIED:20181115T111210Z
X-ACCESS:1
X-HITS:1396
X-URL:
X-COLOR:121010
END:VEVENT
END:VCALENDAR