BEGIN:VCALENDAR
VERSION:2.0
PRODID:DPCALENDAR
CALSCALE:GREGORIAN
BEGIN:VTIMEZONE
TZID:Europe/Athens
X-MICROSOFT-CDO-TZID:7
BEGIN:STANDARD
DTSTART:20251026T010000
TZOFFSETFROM:+0300
TZOFFSETTO:+0200
TZNAME:EET
END:STANDARD
BEGIN:STANDARD
DTSTART:20261025T010000
TZOFFSETFROM:+0300
TZOFFSETTO:+0200
TZNAME:EET
END:STANDARD
BEGIN:DAYLIGHT
DTSTART:20260329T010000
TZOFFSETFROM:+0200
TZOFFSETTO:+0300
TZNAME:EEST
END:DAYLIGHT
END:VTIMEZONE
X-WR-TIMEZONE:Europe/Athens
BEGIN:VEVENT
DTSTART;TZID=Europe/Athens:20190120T110000
DTEND;TZID=Europe/Athens:20190120T163000
UID:5DD1D65A-2085-455A-88BF-C41FECBD074E
SUMMARY:Πανελλήνιο Συνέδριο Τοπικής Ιστορίας και Πολιτισμού
DTSTAMP:20190114T092313Z
DESCRIPTION:Πανελλήνιο Συνέδριο Τοπικής Ιστορίας και Πολιτισμού «Η χώρα των Θεστιέων στον ιστορικό χώρο και τον χρόνο», οργάνωση Αρχαιολογική – Ιστορική – Λαογραφική Εταιρεία Θεστιέων και Τμήμα Διαχείρισης Πολιτισμικού Περιβάλλοντος και Νέων Τεχνολογιών του Πανεπιστημίου Πατρών
X-ALT-DESC;FMTTYPE=text/html:Πανελλήνιο Συνέδριο Τοπικής Ιστορίας και Πολιτισμού «Η χώρα των Θεστιέων στον ιστορικό χώρο και τον χρόνο», οργάνωση Αρχαιολογική – Ιστορική – Λαογραφική Εταιρεία Θεστιέων και Τμήμα Διαχείρισης Πολιτισμικού Περιβάλλοντος και Νέων Τεχνολογιών του Πανεπιστημίου Πατρών
LOCATION:Καψάλη\, 302 00 Mesolongi\, Greece
GEO:38.36869270;21.43489170
X-ACCESS:1
X-HITS:1528
X-URL:
X-COLOR:CCFFF3
END:VEVENT
END:VCALENDAR